BEGIN:VCALENDAR
VERSION:2.0
PRODID:-//HawkCell - ECPv6.15.20//NONSGML v1.0//EN
CALSCALE:GREGORIAN
METHOD:PUBLISH
X-WR-CALNAME:HawkCell
X-ORIGINAL-URL:https://hawkcell.com
X-WR-CALDESC:Events for HawkCell
REFRESH-INTERVAL;VALUE=DURATION:PT1H
X-Robots-Tag:noindex
X-PUBLISHED-TTL:PT1H
BEGIN:VTIMEZONE
TZID:UTC
BEGIN:STANDARD
TZOFFSETFROM:+0000
TZOFFSETTO:+0000
TZNAME:UTC
DTSTART:20230101T000000
END:STANDARD
END:VTIMEZONE
BEGIN:VEVENT
DTSTART;VALUE=DATE:20241104
DTEND;VALUE=DATE:20241107
DTSTAMP:20260424T222128
CREATED:20240905T150750Z
LAST-MODIFIED:20241029T131635Z
UID:1397-1730678400-1730937599@hawkcell.com
SUMMARY:BIO-Europe
DESCRIPTION:HawkCell will be exhibiting at European BIO-Europe 2024! \n➡️ Join us at booth n°197A. \nBIO-Europe 2024 will showcase a wide range of biopharmaceutical partnerships and innovations\, focusing on creating strategic relationships across the global biotechnology and pharmaceutical industries. The event is known for facilitating one-on-one meetings\, startup and innovator programs\, and discussions on industry trends with key opinion leaders. Attendees from all parts of the biotech value chain\, including startups\, pharma companies\, and investors\, will explore new business development opportunities and engage in productive networking sessions​. \n 
URL:https://hawkcell.com/event/bio-europe/
LOCATION:VMX📍\, Orange County Convention Center\, Orlando\, FL\, United States
ATTACH;FMTTYPE=image/png:https://hawkcell.com/wp-content/uploads/2024/09/Capture-decran-2024-09-05-a-17.07.02.png
END:VEVENT
END:VCALENDAR