BEGIN:VCALENDAR
VERSION:2.0
PRODID:-//HawkCell - ECPv6.15.20//NONSGML v1.0//EN
CALSCALE:GREGORIAN
METHOD:PUBLISH
X-ORIGINAL-URL:https://hawkcell.com
X-WR-CALDESC:Events for HawkCell
REFRESH-INTERVAL;VALUE=DURATION:PT1H
X-Robots-Tag:noindex
X-PUBLISHED-TTL:PT1H
BEGIN:VTIMEZONE
TZID:America/Halifax
BEGIN:DAYLIGHT
TZOFFSETFROM:-0400
TZOFFSETTO:-0300
TZNAME:ADT
DTSTART:20240310T060000
END:DAYLIGHT
BEGIN:STANDARD
TZOFFSETFROM:-0300
TZOFFSETTO:-0400
TZNAME:AST
DTSTART:20241103T050000
END:STANDARD
BEGIN:DAYLIGHT
TZOFFSETFROM:-0400
TZOFFSETTO:-0300
TZNAME:ADT
DTSTART:20250309T060000
END:DAYLIGHT
BEGIN:STANDARD
TZOFFSETFROM:-0300
TZOFFSETTO:-0400
TZNAME:AST
DTSTART:20251102T050000
END:STANDARD
BEGIN:DAYLIGHT
TZOFFSETFROM:-0400
TZOFFSETTO:-0300
TZNAME:ADT
DTSTART:20260308T060000
END:DAYLIGHT
BEGIN:STANDARD
TZOFFSETFROM:-0300
TZOFFSETTO:-0400
TZNAME:AST
DTSTART:20261101T050000
END:STANDARD
END:VTIMEZONE
BEGIN:VEVENT
DTSTART;VALUE=DATE:20250618
DTEND;VALUE=DATE:20250622
DTSTAMP:20260422T115149
CREATED:20250527T081245Z
LAST-MODIFIED:20250527T081658Z
UID:3142-1750204800-1750550399@hawkcell.com
SUMMARY:ACVIM
DESCRIPTION:HawkCell will be exhibiting at American College of Veterinary Internal Medicine (ACVIM) 2025! \n📍 Join us at Booth #129. \nAs the leading event for advanced\, specialist-level education in veterinary internal medicine\, the ACVIM Forum provides exceptional opportunities to connect with your community and enrich your learning and your future. Join us in Louisville\, Kentucky in 2025 as we Celebrate Excellence in Education from June 19-21\, with Specialty Symposium happening June 18. \nAttend sessions in cardiology\, large animal internal medicine\, neurology\, nutrition\, oncology and small animal internal medicine\, PLUS multispecialty topics in business\, leadership & communications\, education & research\, wellbeing and more. \nExplore tracks geared towards veterinary technicians and dive into hundreds of innovative scientific research abstracts. In addition to the specialty-focused sessions\, you can take advantage of the many networking opportunities specially designed for veterinary professionals. \n  \n 
URL:https://hawkcell.com/event/acvim-2025/
LOCATION:LVS 2025📍\, ExCel London Royal Victoria Dock 1 Western Gateway\, London\, United Kingdom
ATTACH;FMTTYPE=image/png:https://hawkcell.com/wp-content/uploads/2025/05/ACVIM-2025.png
ORGANIZER;CN="LVS":MAILTO:lvs@closerstillmedia.com
END:VEVENT
END:VCALENDAR