BEGIN:VCALENDAR
VERSION:2.0
PRODID:-//HawkCell - ECPv6.15.20//NONSGML v1.0//EN
CALSCALE:GREGORIAN
METHOD:PUBLISH
X-ORIGINAL-URL:https://hawkcell.com
X-WR-CALDESC:Events for HawkCell
REFRESH-INTERVAL;VALUE=DURATION:PT1H
X-Robots-Tag:noindex
X-PUBLISHED-TTL:PT1H
BEGIN:VTIMEZONE
TZID:America/Denver
BEGIN:DAYLIGHT
TZOFFSETFROM:-0700
TZOFFSETTO:-0600
TZNAME:MDT
DTSTART:20240310T090000
END:DAYLIGHT
BEGIN:STANDARD
TZOFFSETFROM:-0600
TZOFFSETTO:-0700
TZNAME:MST
DTSTART:20241103T080000
END:STANDARD
BEGIN:DAYLIGHT
TZOFFSETFROM:-0700
TZOFFSETTO:-0600
TZNAME:MDT
DTSTART:20250309T090000
END:DAYLIGHT
BEGIN:STANDARD
TZOFFSETFROM:-0600
TZOFFSETTO:-0700
TZNAME:MST
DTSTART:20251102T080000
END:STANDARD
BEGIN:DAYLIGHT
TZOFFSETFROM:-0700
TZOFFSETTO:-0600
TZNAME:MDT
DTSTART:20260308T090000
END:DAYLIGHT
BEGIN:STANDARD
TZOFFSETFROM:-0600
TZOFFSETTO:-0700
TZNAME:MST
DTSTART:20261101T080000
END:STANDARD
END:VTIMEZONE
BEGIN:VEVENT
DTSTART;VALUE=DATE:20251206
DTEND;VALUE=DATE:20251211
DTSTAMP:20260422T101144
CREATED:20251109T111623Z
LAST-MODIFIED:20251109T114922Z
UID:3434-1764979200-1765411199@hawkcell.com
SUMMARY:AAEP
DESCRIPTION:HawkCell will be present at the Annual AAEP Convention 2025! \n➡️ Meet us during the event. \nThe AAEP Annual Convention is the premier gathering for equine veterinary professionals\, bringing together veterinarians\, researchers\, and industry leaders to exchange knowledge and explore the latest advancements in equine health and welfare. Across several days of scientific sessions\, workshops\, and innovations\, the event fosters collaboration\, learning\, and excellence within the equine community.
URL:https://hawkcell.com/event/aaep-convention-hawkcell/
LOCATION:AAEP 2025 📍\, Colorado Convention Center\, Denver\, CO\, United States
ATTACH;FMTTYPE=image/png:https://hawkcell.com/wp-content/uploads/2025/11/Capture-decran-2025-11-09-a-12.22.20.png
ORGANIZER;CN="AAEP":MAILTO:aaepoffice@aaep.org
END:VEVENT
END:VCALENDAR