BEGIN:VCALENDAR
VERSION:2.0
PRODID:-//HawkCell - ECPv6.15.20//NONSGML v1.0//EN
CALSCALE:GREGORIAN
METHOD:PUBLISH
X-WR-CALNAME:HawkCell
X-ORIGINAL-URL:https://hawkcell.com
X-WR-CALDESC:Events for HawkCell
REFRESH-INTERVAL;VALUE=DURATION:PT1H
X-Robots-Tag:noindex
X-PUBLISHED-TTL:PT1H
BEGIN:VTIMEZONE
TZID:America/New_York
BEGIN:DAYLIGHT
TZOFFSETFROM:-0500
TZOFFSETTO:-0400
TZNAME:EDT
DTSTART:20240310T070000
END:DAYLIGHT
BEGIN:STANDARD
TZOFFSETFROM:-0400
TZOFFSETTO:-0500
TZNAME:EST
DTSTART:20241103T060000
END:STANDARD
BEGIN:DAYLIGHT
TZOFFSETFROM:-0500
TZOFFSETTO:-0400
TZNAME:EDT
DTSTART:20250309T070000
END:DAYLIGHT
BEGIN:STANDARD
TZOFFSETFROM:-0400
TZOFFSETTO:-0500
TZNAME:EST
DTSTART:20251102T060000
END:STANDARD
BEGIN:DAYLIGHT
TZOFFSETFROM:-0500
TZOFFSETTO:-0400
TZNAME:EDT
DTSTART:20260308T070000
END:DAYLIGHT
BEGIN:STANDARD
TZOFFSETFROM:-0400
TZOFFSETTO:-0500
TZNAME:EST
DTSTART:20261101T060000
END:STANDARD
END:VTIMEZONE
BEGIN:VTIMEZONE
TZID:America/Halifax
BEGIN:DAYLIGHT
TZOFFSETFROM:-0400
TZOFFSETTO:-0300
TZNAME:ADT
DTSTART:20240310T060000
END:DAYLIGHT
BEGIN:STANDARD
TZOFFSETFROM:-0300
TZOFFSETTO:-0400
TZNAME:AST
DTSTART:20241103T050000
END:STANDARD
BEGIN:DAYLIGHT
TZOFFSETFROM:-0400
TZOFFSETTO:-0300
TZNAME:ADT
DTSTART:20250309T060000
END:DAYLIGHT
BEGIN:STANDARD
TZOFFSETFROM:-0300
TZOFFSETTO:-0400
TZNAME:AST
DTSTART:20251102T050000
END:STANDARD
BEGIN:DAYLIGHT
TZOFFSETFROM:-0400
TZOFFSETTO:-0300
TZNAME:ADT
DTSTART:20260308T060000
END:DAYLIGHT
BEGIN:STANDARD
TZOFFSETFROM:-0300
TZOFFSETTO:-0400
TZNAME:AST
DTSTART:20261101T050000
END:STANDARD
END:VTIMEZONE
BEGIN:VTIMEZONE
TZID:UTC
BEGIN:STANDARD
TZOFFSETFROM:+0000
TZOFFSETTO:+0000
TZNAME:UTC
DTSTART:20230101T000000
END:STANDARD
END:VTIMEZONE
BEGIN:VEVENT
DTSTART;VALUE=DATE:20250621
DTEND;VALUE=DATE:20250625
DTSTAMP:20260422T214937
CREATED:20250527T082933Z
LAST-MODIFIED:20250527T083527Z
UID:3157-1750464000-1750809599@hawkcell.com
SUMMARY:SNMMI
DESCRIPTION:HawkCell will be attending the 2025 SNMMI Annual Meeting! \nJoin us June 21–24 at the SNMMI Annual Meeting in New Orleans\, where cutting-edge research meets clinical innovation. \nThis unmissable event brings together physicians\, technologists\, pharmacists\, laboratory professionals\, scientists\, and industry leaders to showcase the latest breakthroughs accelerating the path to better patient care. \nDive into: \n\nRevolutionary research shaping the future of nuclear medicine and molecular imaging\nAdvanced clinical applications transforming patient outcomes\nUnique networking opportunities with global thought leaders
URL:https://hawkcell.com/event/snmmi/
LOCATION:AFVAC 📍\, Parc Chanot\, Marseille\, 13000\, France
ATTACH;FMTTYPE=image/jpeg:https://hawkcell.com/wp-content/uploads/2025/05/SNMMI2025.jpeg
END:VEVENT
BEGIN:VEVENT
DTSTART;VALUE=DATE:20250618
DTEND;VALUE=DATE:20250622
DTSTAMP:20260422T214937
CREATED:20250527T081245Z
LAST-MODIFIED:20250527T081658Z
UID:3142-1750204800-1750550399@hawkcell.com
SUMMARY:ACVIM
DESCRIPTION:HawkCell will be exhibiting at American College of Veterinary Internal Medicine (ACVIM) 2025! \n📍 Join us at Booth #129. \nAs the leading event for advanced\, specialist-level education in veterinary internal medicine\, the ACVIM Forum provides exceptional opportunities to connect with your community and enrich your learning and your future. Join us in Louisville\, Kentucky in 2025 as we Celebrate Excellence in Education from June 19-21\, with Specialty Symposium happening June 18. \nAttend sessions in cardiology\, large animal internal medicine\, neurology\, nutrition\, oncology and small animal internal medicine\, PLUS multispecialty topics in business\, leadership & communications\, education & research\, wellbeing and more. \nExplore tracks geared towards veterinary technicians and dive into hundreds of innovative scientific research abstracts. In addition to the specialty-focused sessions\, you can take advantage of the many networking opportunities specially designed for veterinary professionals. \n  \n 
URL:https://hawkcell.com/event/acvim-2025/
LOCATION:LVS 2025📍\, ExCel London Royal Victoria Dock 1 Western Gateway\, London\, United Kingdom
ATTACH;FMTTYPE=image/png:https://hawkcell.com/wp-content/uploads/2025/05/ACVIM-2025.png
ORGANIZER;CN="LVS":MAILTO:lvs@closerstillmedia.com
END:VEVENT
BEGIN:VEVENT
DTSTART;VALUE=DATE:20241104
DTEND;VALUE=DATE:20241107
DTSTAMP:20260422T214937
CREATED:20240905T150750Z
LAST-MODIFIED:20241029T131635Z
UID:1397-1730678400-1730937599@hawkcell.com
SUMMARY:BIO-Europe
DESCRIPTION:HawkCell will be exhibiting at European BIO-Europe 2024! \n➡️ Join us at booth n°197A. \nBIO-Europe 2024 will showcase a wide range of biopharmaceutical partnerships and innovations\, focusing on creating strategic relationships across the global biotechnology and pharmaceutical industries. The event is known for facilitating one-on-one meetings\, startup and innovator programs\, and discussions on industry trends with key opinion leaders. Attendees from all parts of the biotech value chain\, including startups\, pharma companies\, and investors\, will explore new business development opportunities and engage in productive networking sessions​. \n 
URL:https://hawkcell.com/event/bio-europe/
LOCATION:VMX📍\, Orange County Convention Center\, Orlando\, FL\, United States
ATTACH;FMTTYPE=image/png:https://hawkcell.com/wp-content/uploads/2024/09/Capture-decran-2024-09-05-a-17.07.02.png
END:VEVENT
BEGIN:VEVENT
DTSTART;VALUE=DATE:20241030
DTEND;VALUE=DATE:20241103
DTSTAMP:20260422T214937
CREATED:20241024T100829Z
LAST-MODIFIED:20241024T101110Z
UID:2697-1730246400-1730591999@hawkcell.com
SUMMARY:ACVR
DESCRIPTION:HawkCell will be exhibiting at American College of Veterinary Radiology (ACVR) Conference 2024! \n➡️ Join us at Booth n°119. \nThis annual event is a key gathering for specialists in veterinary diagnostic imaging and radiation oncology\, offering presentations\, scientific exhibits\, and educational sessions. It provides veterinary radiologists\, oncologists\, and researchers a platform to exchange knowledge on the latest advancements in imaging technologies\, including MRI\, CT\, and artificial intelligence applications in veterinary medicine​. \n\n  \n 
URL:https://hawkcell.com/event/acvr/
LOCATION:ACVR 📍\, 235 East Main Street Norfolk VA 23510\, Norfolk\, VA\, 23510\, United States
ATTACH;FMTTYPE=image/jpeg:https://hawkcell.com/wp-content/uploads/2024/10/1707854421843.jpeg
END:VEVENT
BEGIN:VEVENT
DTSTART;VALUE=DATE:20240912
DTEND;VALUE=DATE:20240915
DTSTAMP:20260422T214937
CREATED:20231212T121005Z
LAST-MODIFIED:20240919T151317Z
UID:1143-1726099200-1726358399@hawkcell.com
SUMMARY:ECVN
DESCRIPTION:HawkCell will be exhibiting at European College of Veterinary Neurology (ECVN) 2024! \n➡️ Join us at Booth n°3. \nThe main theme is Neuro-Ophthalmology\, and it will feature expert talks from veterinary and human specialists. A Residents’ Day focusing on head anatomy and imaging is scheduled for September 12. The event will also include discussions on sustainability in veterinary practice​\n \n 
URL:https://hawkcell.com/event/ecvn/
LOCATION:LVS 2025📍\, ExCel London Royal Victoria Dock 1 Western Gateway\, London\, United Kingdom
ATTACH;FMTTYPE=image/png:https://hawkcell.com/wp-content/uploads/2023/12/Capture-decran-2024-09-05-a-16.34.57.png
ORGANIZER;CN="LVS":MAILTO:lvs@closerstillmedia.com
END:VEVENT
END:VCALENDAR