BEGIN:VCALENDAR
VERSION:2.0
PRODID:-//HawkCell - ECPv6.15.20//NONSGML v1.0//EN
CALSCALE:GREGORIAN
METHOD:PUBLISH
X-ORIGINAL-URL:https://hawkcell.com
X-WR-CALDESC:Events for HawkCell
REFRESH-INTERVAL;VALUE=DURATION:PT1H
X-Robots-Tag:noindex
X-PUBLISHED-TTL:PT1H
BEGIN:VTIMEZONE
TZID:America/New_York
BEGIN:DAYLIGHT
TZOFFSETFROM:-0500
TZOFFSETTO:-0400
TZNAME:EDT
DTSTART:20250309T070000
END:DAYLIGHT
BEGIN:STANDARD
TZOFFSETFROM:-0400
TZOFFSETTO:-0500
TZNAME:EST
DTSTART:20251102T060000
END:STANDARD
BEGIN:DAYLIGHT
TZOFFSETFROM:-0500
TZOFFSETTO:-0400
TZNAME:EDT
DTSTART:20260308T070000
END:DAYLIGHT
BEGIN:STANDARD
TZOFFSETFROM:-0400
TZOFFSETTO:-0500
TZNAME:EST
DTSTART:20261101T060000
END:STANDARD
BEGIN:DAYLIGHT
TZOFFSETFROM:-0500
TZOFFSETTO:-0400
TZNAME:EDT
DTSTART:20270314T070000
END:DAYLIGHT
BEGIN:STANDARD
TZOFFSETFROM:-0400
TZOFFSETTO:-0500
TZNAME:EST
DTSTART:20271107T060000
END:STANDARD
END:VTIMEZONE
BEGIN:VTIMEZONE
TZID:America/Los_Angeles
BEGIN:DAYLIGHT
TZOFFSETFROM:-0800
TZOFFSETTO:-0700
TZNAME:PDT
DTSTART:20250309T100000
END:DAYLIGHT
BEGIN:STANDARD
TZOFFSETFROM:-0700
TZOFFSETTO:-0800
TZNAME:PST
DTSTART:20251102T090000
END:STANDARD
BEGIN:DAYLIGHT
TZOFFSETFROM:-0800
TZOFFSETTO:-0700
TZNAME:PDT
DTSTART:20260308T100000
END:DAYLIGHT
BEGIN:STANDARD
TZOFFSETFROM:-0700
TZOFFSETTO:-0800
TZNAME:PST
DTSTART:20261101T090000
END:STANDARD
BEGIN:DAYLIGHT
TZOFFSETFROM:-0800
TZOFFSETTO:-0700
TZNAME:PDT
DTSTART:20270314T100000
END:DAYLIGHT
BEGIN:STANDARD
TZOFFSETFROM:-0700
TZOFFSETTO:-0800
TZNAME:PST
DTSTART:20271107T090000
END:STANDARD
END:VTIMEZONE
BEGIN:VEVENT
DTSTART;VALUE=DATE:20260117
DTEND;VALUE=DATE:20260122
DTSTAMP:20260422T214817
CREATED:20251109T115516Z
LAST-MODIFIED:20251109T120304Z
UID:3465-1768608000-1769039999@hawkcell.com
SUMMARY:VMX
DESCRIPTION:HawkCell will be present at the VMX Conference 2025! \n➡️ Meet us during the event. \nThe VMX Conference\, organized by the North American Veterinary Community (NAVC)\, is one of the world’s leading events in veterinary medicine. It brings together thousands of veterinarians\, specialists\, researchers\, and industry professionals from around the globe to share the latest innovations\, technologies\, and clinical insights.Over several days of lectures\, hands-on workshops\, and exhibitions\, the event fosters learning\, collaboration\, and the pursuit of excellence in animal health.
URL:https://hawkcell.com/event/vmx-hawkcell/
LOCATION:VMX📍\, Orange County Convention Center\, Orlando\, FL\, United States
ATTACH;FMTTYPE=image/jpeg:https://hawkcell.com/wp-content/uploads/2025/11/VMX-2026.jpeg
END:VEVENT
BEGIN:VEVENT
DTSTART;VALUE=DATE:20260611
DTEND;VALUE=DATE:20260614
DTSTAMP:20260422T214817
CREATED:20251109T121419Z
LAST-MODIFIED:20251109T121419Z
UID:3476-1781136000-1781395199@hawkcell.com
SUMMARY:ACVIM
DESCRIPTION:HawkCell will be exhibiting at the ACVIM Forum 2026! \n➡️ Join us at booth 1319. \nThe ACVIM Forum is one of the most prestigious veterinary conferences in the world\, bringing together specialists\, clinicians\, researchers\, and industry leaders dedicated to advancing veterinary internal medicine. Over several days\, attendees explore groundbreaking technologies\, attend high-level scientific sessions\, and exchange expertise across disciplines such as cardiology\, neurology\, oncology\, internal medicine\, and more.
URL:https://hawkcell.com/event/acvim-hawkcell/
LOCATION:ACVIM 2026 📍\, Specialty Symposium\, Seattle\, WA\, United States
ATTACH;FMTTYPE=image/png:https://hawkcell.com/wp-content/uploads/2025/11/Forum2026-Banner-Home-SaveTheDatecc8d0a4e-8812-42c2-9c09-91086857a9c1.png
END:VEVENT
END:VCALENDAR